BEGIN:VCALENDAR
VERSION:2.0
PRODID:-//Hektner Maskin - ECPv6.15.17//NONSGML v1.0//EN
CALSCALE:GREGORIAN
METHOD:PUBLISH
X-WR-CALNAME:Hektner Maskin
X-ORIGINAL-URL:https://www.hektner.no
X-WR-CALDESC:Arrangement for Hektner Maskin
REFRESH-INTERVAL;VALUE=DURATION:PT1H
X-Robots-Tag:noindex
X-PUBLISHED-TTL:PT1H
BEGIN:VTIMEZONE
TZID:Europe/Oslo
BEGIN:DAYLIGHT
TZOFFSETFROM:+0100
TZOFFSETTO:+0200
TZNAME:CEST
DTSTART:20250330T010000
END:DAYLIGHT
BEGIN:STANDARD
TZOFFSETFROM:+0200
TZOFFSETTO:+0100
TZNAME:CET
DTSTART:20251026T010000
END:STANDARD
BEGIN:DAYLIGHT
TZOFFSETFROM:+0100
TZOFFSETTO:+0200
TZNAME:CEST
DTSTART:20260329T010000
END:DAYLIGHT
BEGIN:STANDARD
TZOFFSETFROM:+0200
TZOFFSETTO:+0100
TZNAME:CET
DTSTART:20261025T010000
END:STANDARD
BEGIN:DAYLIGHT
TZOFFSETFROM:+0100
TZOFFSETTO:+0200
TZNAME:CEST
DTSTART:20270328T010000
END:DAYLIGHT
BEGIN:STANDARD
TZOFFSETFROM:+0200
TZOFFSETTO:+0100
TZNAME:CET
DTSTART:20271031T010000
END:STANDARD
END:VTIMEZONE
BEGIN:VEVENT
DTSTART;VALUE=DATE:20260911
DTEND;VALUE=DATE:20260914
DTSTAMP:20260419T125242
CREATED:20251008T125552Z
LAST-MODIFIED:20251008T132035Z
UID:35476-1789084800-1789343999@www.hektner.no
SUMMARY:Dyrsku’n messe 2026
DESCRIPTION:Velkommen til Dyrsku’n 11.-13. september 2026\nMøt oss på stand nr C110 \n \n 
URL:https://www.hektner.no/aktivitet/dyrskun-messe-2026/
LOCATION:Dyrsku’n Arrangement AS\, Nordbygdivegen 60\, Seljord\, 3840\, Norge
CATEGORIES:Messe
END:VEVENT
END:VCALENDAR